BEGIN:VCALENDAR
VERSION:2.0
PRODID:-//Netsync - ECPv6.15.20//NONSGML v1.0//EN
CALSCALE:GREGORIAN
METHOD:PUBLISH
X-WR-CALNAME:Netsync
X-ORIGINAL-URL:https://www.netsync.com
X-WR-CALDESC:Events for Netsync
REFRESH-INTERVAL;VALUE=DURATION:PT1H
X-Robots-Tag:noindex
X-PUBLISHED-TTL:PT1H
BEGIN:VTIMEZONE
TZID:America/Chicago
BEGIN:DAYLIGHT
TZOFFSETFROM:-0600
TZOFFSETTO:-0500
TZNAME:CDT
DTSTART:20210314T080000
END:DAYLIGHT
BEGIN:STANDARD
TZOFFSETFROM:-0500
TZOFFSETTO:-0600
TZNAME:CST
DTSTART:20211107T070000
END:STANDARD
BEGIN:DAYLIGHT
TZOFFSETFROM:-0600
TZOFFSETTO:-0500
TZNAME:CDT
DTSTART:20220313T080000
END:DAYLIGHT
BEGIN:STANDARD
TZOFFSETFROM:-0500
TZOFFSETTO:-0600
TZNAME:CST
DTSTART:20221106T070000
END:STANDARD
BEGIN:DAYLIGHT
TZOFFSETFROM:-0600
TZOFFSETTO:-0500
TZNAME:CDT
DTSTART:20230312T080000
END:DAYLIGHT
BEGIN:STANDARD
TZOFFSETFROM:-0500
TZOFFSETTO:-0600
TZNAME:CST
DTSTART:20231105T070000
END:STANDARD
END:VTIMEZONE
BEGIN:VEVENT
DTSTART;TZID=America/Chicago:20220725T080000
DTEND;TZID=America/Chicago:20220728T120000
DTSTAMP:20260420T040553
CREATED:20220608T183623Z
LAST-MODIFIED:20220608T183634Z
UID:10000135-1658736000-1659009600@www.netsync.com
SUMMARY:FLGISA
DESCRIPTION:We invite you to join us for the Florida Local Government Information Systems Association 2022 Annual Conference at the Diplomat Beach Resort on July 25-28\, 2022. The conference is open to all Florida local government agency technology professionals. \n\n\n\nWednesday\, July 27th 1:30pm – 2:15pm   \n\n\n\nOur Head of Digital Business\, Mark Lynd\, will be discussing how to utilize a zerotrust framework that will enable you to maximize security while minimizing the risk. You won’t want to miss this and we look forward to seeing you there!    \n\n\n\n\n\n\n\n\n    \n      Partners
URL:https://www.netsync.com/event/flgisa/
LOCATION:The Diplomat Beach Resort Hollywood\, 3555 S Ocean Dr\, Hollywood\, Florida\, 33019\, United States
ATTACH;FMTTYPE=image/jpeg:https://www.netsync.com/wp-content/uploads/2022/06/flgisa-calendar-header.jpg
ORGANIZER;CN="Haley Glasscock":MAILTO:hglasscock@netsync.com
END:VEVENT
END:VCALENDAR